BEGIN:VCALENDAR
VERSION:2.0
PRODID:-//Coastside Women&#039;s Club - ECPv6.15.17.1//NONSGML v1.0//EN
CALSCALE:GREGORIAN
METHOD:PUBLISH
X-WR-CALNAME:Coastside Women&#039;s Club
X-ORIGINAL-URL:https://coastsidewomensclub.org
X-WR-CALDESC:Events for Coastside Women&#039;s Club
REFRESH-INTERVAL;VALUE=DURATION:PT1H
X-Robots-Tag:noindex
X-PUBLISHED-TTL:PT1H
BEGIN:VTIMEZONE
TZID:America/Los_Angeles
BEGIN:DAYLIGHT
TZOFFSETFROM:-0800
TZOFFSETTO:-0700
TZNAME:PDT
DTSTART:20250309T100000
END:DAYLIGHT
BEGIN:STANDARD
TZOFFSETFROM:-0700
TZOFFSETTO:-0800
TZNAME:PST
DTSTART:20251102T090000
END:STANDARD
BEGIN:DAYLIGHT
TZOFFSETFROM:-0800
TZOFFSETTO:-0700
TZNAME:PDT
DTSTART:20260308T100000
END:DAYLIGHT
BEGIN:STANDARD
TZOFFSETFROM:-0700
TZOFFSETTO:-0800
TZNAME:PST
DTSTART:20261101T090000
END:STANDARD
BEGIN:DAYLIGHT
TZOFFSETFROM:-0800
TZOFFSETTO:-0700
TZNAME:PDT
DTSTART:20270314T100000
END:DAYLIGHT
BEGIN:STANDARD
TZOFFSETFROM:-0700
TZOFFSETTO:-0800
TZNAME:PST
DTSTART:20271107T090000
END:STANDARD
END:VTIMEZONE
BEGIN:VEVENT
DTSTART;TZID=America/Los_Angeles:20260122T190000
DTEND;TZID=America/Los_Angeles:20260122T210000
DTSTAMP:20260423T032111
CREATED:20260104T011803Z
LAST-MODIFIED:20260116T000711Z
UID:2310-1769108400-1769115600@coastsidewomensclub.org
SUMMARY:Crafty Ladies
DESCRIPTION:Meets monthly @ 7:00pm.  Contact Natalie Cooper or Sharon Weight for details.
URL:https://coastsidewomensclub.org/event/crafty-ladies/
CATEGORIES:Monthly
ATTACH;FMTTYPE=image/jpeg:https://coastsidewomensclub.org/wp-content/uploads/2026/01/CWC-Crafty-Ladies.jpg
END:VEVENT
END:VCALENDAR